BEGIN:VCALENDAR
VERSION:2.0
PRODID:icalendar-ruby
CALSCALE:GREGORIAN
BEGIN:VEVENT
DTSTAMP:20260421T091900Z
UID:9a3b4efd-45b6-4588-864c-364c7363b575
DTSTART;TZID=Pacific/Auckland:20260419T123000
DTEND;TZID=Pacific/Auckland:20260419T130000
DESCRIPTION:Property ID# 606007
SUMMARY:Openhome for 39A Imlay Crescent
END:VEVENT
END:VCALENDAR
